BEGIN:VCALENDAR
VERSION:2.0
PRODID:-//Fantastinet - L&#039;Association - ECPv6.15.20//NONSGML v1.0//EN
CALSCALE:GREGORIAN
METHOD:PUBLISH
X-WR-CALNAME:Fantastinet - L&#039;Association
X-ORIGINAL-URL:https://asso.fantastinet.com
X-WR-CALDESC:Évènements pour Fantastinet - L&#039;Association
REFRESH-INTERVAL;VALUE=DURATION:PT1H
X-Robots-Tag:noindex
X-PUBLISHED-TTL:PT1H
BEGIN:VTIMEZONE
TZID:Europe/Paris
BEGIN:DAYLIGHT
TZOFFSETFROM:+0100
TZOFFSETTO:+0200
TZNAME:CEST
DTSTART:20240331T010000
END:DAYLIGHT
BEGIN:STANDARD
TZOFFSETFROM:+0200
TZOFFSETTO:+0100
TZNAME:CET
DTSTART:20241027T010000
END:STANDARD
BEGIN:DAYLIGHT
TZOFFSETFROM:+0100
TZOFFSETTO:+0200
TZNAME:CEST
DTSTART:20250330T010000
END:DAYLIGHT
BEGIN:STANDARD
TZOFFSETFROM:+0200
TZOFFSETTO:+0100
TZNAME:CET
DTSTART:20251026T010000
END:STANDARD
BEGIN:DAYLIGHT
TZOFFSETFROM:+0100
TZOFFSETTO:+0200
TZNAME:CEST
DTSTART:20260329T010000
END:DAYLIGHT
BEGIN:STANDARD
TZOFFSETFROM:+0200
TZOFFSETTO:+0100
TZNAME:CET
DTSTART:20261025T010000
END:STANDARD
END:VTIMEZONE
BEGIN:VEVENT
DTSTART;TZID=Europe/Paris:20250419T080000
DTEND;TZID=Europe/Paris:20250420T170000
DTSTAMP:20260425T002928
CREATED:20241226T102909Z
LAST-MODIFIED:20241226T102909Z
UID:228-1745049600-1745168400@asso.fantastinet.com
SUMMARY:Ouest Hurlant 2025
DESCRIPTION:Pour la quatrième année consécutive\, le festival Ouest-Hurlant se tiendra sur le site de La Paillette à Rennes. \n  \nLa thématique sera « A travers les flammes » et ce seront cette année deux marraines \n\nLaura Nsafou\, écrivaine et blogueuse afroféministe à qui l’on doit l’album à succès Comme un million de papillons noirs et la trilogie Nos jours brûlés\,\nAudrey Pleynet qui a signé la novella Rossignol.\n\n  \nDes membres de l’Association Fantastinet seront présents.
URL:https://asso.fantastinet.com/evenement/ouest-hurlant-2025/
LOCATION:La Paillette – Rennes\, 2 boulevard de Verdun\, Rennes\, 35000\, France
CATEGORIES:Salons
ATTACH;FMTTYPE=image/jpeg:https://asso.fantastinet.com/wp-content/uploads/2024/12/OuestHurlant.jpg
END:VEVENT
BEGIN:VEVENT
DTSTART;TZID=Europe/Paris:20250426T090000
DTEND;TZID=Europe/Paris:20250427T170000
DTSTAMP:20260425T002928
CREATED:20241226T094308Z
LAST-MODIFIED:20241228T163929Z
UID:224-1745658000-1745773200@asso.fantastinet.com
SUMMARY:Festival Imajn'ère 2025
DESCRIPTION:Pour la 14ème\, la ville d’Angers accueillera son festival Imajn’ère ! \n  \nLe festival se tiendra sur le week-end des 26 et 27 avril\, à nouveau aux Salons Curnonsky\, en plein centre angevin. \n  \nSi l’ensemble des invité·es ne sont pas encore connu·es\, Tiphs est néanmoins déjà annoncée\, l’illustratrice ayant réalisée l’affiche du festival. \n  \nLa thématique sera En garde. \n  \nA noter que comme chaque année\, plusieurs membres de l’association s’y rendront. \n 
URL:https://asso.fantastinet.com/evenement/festival-imajnere/
LOCATION:Salons Curnonsky\, 6 Place Maurice Saillant\, Angers\, 49000\, France
CATEGORIES:Salons
ATTACH;FMTTYPE=image/jpeg:https://asso.fantastinet.com/wp-content/uploads/2024/12/imajnere2025.jpg
END:VEVENT
END:VCALENDAR