BEGIN:VCALENDAR
VERSION:2.0
PRODID:-//Fantastinet - L&#039;Association - ECPv6.15.20//NONSGML v1.0//EN
CALSCALE:GREGORIAN
METHOD:PUBLISH
X-WR-CALNAME:Fantastinet - L&#039;Association
X-ORIGINAL-URL:https://asso.fantastinet.com
X-WR-CALDESC:Évènements pour Fantastinet - L&#039;Association
REFRESH-INTERVAL;VALUE=DURATION:PT1H
X-Robots-Tag:noindex
X-PUBLISHED-TTL:PT1H
BEGIN:VTIMEZONE
TZID:Europe/Paris
BEGIN:DAYLIGHT
TZOFFSETFROM:+0100
TZOFFSETTO:+0200
TZNAME:CEST
DTSTART:20240331T010000
END:DAYLIGHT
BEGIN:STANDARD
TZOFFSETFROM:+0200
TZOFFSETTO:+0100
TZNAME:CET
DTSTART:20241027T010000
END:STANDARD
BEGIN:DAYLIGHT
TZOFFSETFROM:+0100
TZOFFSETTO:+0200
TZNAME:CEST
DTSTART:20250330T010000
END:DAYLIGHT
BEGIN:STANDARD
TZOFFSETFROM:+0200
TZOFFSETTO:+0100
TZNAME:CET
DTSTART:20251026T010000
END:STANDARD
BEGIN:DAYLIGHT
TZOFFSETFROM:+0100
TZOFFSETTO:+0200
TZNAME:CEST
DTSTART:20260329T010000
END:DAYLIGHT
BEGIN:STANDARD
TZOFFSETFROM:+0200
TZOFFSETTO:+0100
TZNAME:CET
DTSTART:20261025T010000
END:STANDARD
END:VTIMEZONE
BEGIN:VEVENT
DTSTART;TZID=Europe/Paris:20250130T100000
DTEND;TZID=Europe/Paris:20250130T120000
DTSTAMP:20260425T003040
CREATED:20241222T144141Z
LAST-MODIFIED:20241222T144451Z
UID:78-1738231200-1738238400@asso.fantastinet.com
SUMMARY:Mycéliades  - Les Littératures de l'imaginaire au Mans
DESCRIPTION:À destination des partenaires\, bibliothécaires\, libraires\, enseignants… Venez plonger dans le grand monde de l’imaginaire en compagnie d’Allan Dujiperou\, fondateur du site et de l’association Fantastinet et découvrir les arcanes de ce monde en expansion\, fantastique\, fantasy\, Science-fiction… sous-genre et hybridation n’auront (presque) plus de secret pour vous.
URL:https://asso.fantastinet.com/evenement/myceliades-les-litteratures-de-limaginaire-au-mans/
LOCATION:Médiathèque Louis Aragon\, 54 Rue du Port\, Le Mans\, 72100\, France
CATEGORIES:Rencontres
ATTACH;FMTTYPE=image/png:https://asso.fantastinet.com/wp-content/uploads/2024/12/myceliades.png
END:VEVENT
END:VCALENDAR