BEGIN:VCALENDAR
VERSION:2.0
PRODID:-//Fantastinet - L&#039;Association - ECPv6.15.20//NONSGML v1.0//EN
CALSCALE:GREGORIAN
METHOD:PUBLISH
X-ORIGINAL-URL:https://asso.fantastinet.com
X-WR-CALDESC:Évènements pour Fantastinet - L&#039;Association
REFRESH-INTERVAL;VALUE=DURATION:PT1H
X-Robots-Tag:noindex
X-PUBLISHED-TTL:PT1H
BEGIN:VTIMEZONE
TZID:Europe/Paris
BEGIN:DAYLIGHT
TZOFFSETFROM:+0100
TZOFFSETTO:+0200
TZNAME:CEST
DTSTART:20250330T010000
END:DAYLIGHT
BEGIN:STANDARD
TZOFFSETFROM:+0200
TZOFFSETTO:+0100
TZNAME:CET
DTSTART:20251026T010000
END:STANDARD
BEGIN:DAYLIGHT
TZOFFSETFROM:+0100
TZOFFSETTO:+0200
TZNAME:CEST
DTSTART:20260329T010000
END:DAYLIGHT
BEGIN:STANDARD
TZOFFSETFROM:+0200
TZOFFSETTO:+0100
TZNAME:CET
DTSTART:20261025T010000
END:STANDARD
BEGIN:DAYLIGHT
TZOFFSETFROM:+0100
TZOFFSETTO:+0200
TZNAME:CEST
DTSTART:20270328T010000
END:DAYLIGHT
BEGIN:STANDARD
TZOFFSETFROM:+0200
TZOFFSETTO:+0100
TZNAME:CET
DTSTART:20271031T010000
END:STANDARD
END:VTIMEZONE
BEGIN:VEVENT
DTSTART;TZID=Europe/Paris:20260324T180000
DTEND;TZID=Europe/Paris:20260324T190000
DTSTAMP:20260420T141656
CREATED:20260322T204409Z
LAST-MODIFIED:20260322T204409Z
UID:612-1774375200-1774378800@asso.fantastinet.com
SUMMARY:Penser la cité pour tou·tes
DESCRIPTION:En ce mois d’avril\, l’association sera présente pour une table ronde autour de la Cité avec : \n\nEstelle Aulas de l’ESPL\nAnna Lefoulon de l’ADEME\nMichael Roch\, auteur de SF\n\n 
URL:https://asso.fantastinet.com/evenement/penser-la-cite-pour-tou%c2%b7tes/
LOCATION:Amphi Campus ESPL\, 19 Rue André Le Nôtre\,\, Angers\, 49000\, France
CATEGORIES:Rencontres
ATTACH;FMTTYPE=image/jpeg:https://asso.fantastinet.com/wp-content/uploads/2026/03/espl.jpg
END:VEVENT
END:VCALENDAR