BEGIN:VCALENDAR
VERSION:2.0
PRODID:-//Fantastinet - L&#039;Association - ECPv6.15.20//NONSGML v1.0//EN
CALSCALE:GREGORIAN
METHOD:PUBLISH
X-WR-CALNAME:Fantastinet - L&#039;Association
X-ORIGINAL-URL:https://asso.fantastinet.com
X-WR-CALDESC:Évènements pour Fantastinet - L&#039;Association
REFRESH-INTERVAL;VALUE=DURATION:PT1H
X-Robots-Tag:noindex
X-PUBLISHED-TTL:PT1H
BEGIN:VTIMEZONE
TZID:Europe/Paris
BEGIN:DAYLIGHT
TZOFFSETFROM:+0100
TZOFFSETTO:+0200
TZNAME:CEST
DTSTART:20250330T010000
END:DAYLIGHT
BEGIN:STANDARD
TZOFFSETFROM:+0200
TZOFFSETTO:+0100
TZNAME:CET
DTSTART:20251026T010000
END:STANDARD
BEGIN:DAYLIGHT
TZOFFSETFROM:+0100
TZOFFSETTO:+0200
TZNAME:CEST
DTSTART:20260329T010000
END:DAYLIGHT
BEGIN:STANDARD
TZOFFSETFROM:+0200
TZOFFSETTO:+0100
TZNAME:CET
DTSTART:20261025T010000
END:STANDARD
BEGIN:DAYLIGHT
TZOFFSETFROM:+0100
TZOFFSETTO:+0200
TZNAME:CEST
DTSTART:20270328T010000
END:DAYLIGHT
BEGIN:STANDARD
TZOFFSETFROM:+0200
TZOFFSETTO:+0100
TZNAME:CET
DTSTART:20271031T010000
END:STANDARD
END:VTIMEZONE
BEGIN:VEVENT
DTSTART;TZID=Europe/Paris:20260206T180000
DTEND;TZID=Europe/Paris:20260206T200000
DTSTAMP:20260420T143536
CREATED:20251207T131848Z
LAST-MODIFIED:20251207T131848Z
UID:456-1770400800-1770408000@asso.fantastinet.com
SUMMARY:Mycéliades 2026 - Les Littératures de l'Imaginaire
DESCRIPTION:Dans le cadre des Mycéliades\, l’association animera une présentation des littératures de l’imaginaire… \n  \nN’hésitez pas à vous inscrire !
URL:https://asso.fantastinet.com/evenement/myceliades-2026-les-litteratures-de-limaginaire/
LOCATION:Médiathèque Louis Aragon\, 54 Rue du Port\, Le Mans\, 72100\, France
CATEGORIES:Rencontres
ATTACH;FMTTYPE=image/jpeg:https://asso.fantastinet.com/wp-content/uploads/2025/12/myceliades.jpg
END:VEVENT
BEGIN:VEVENT
DTSTART;TZID=Europe/Paris:20260213T180000
DTEND;TZID=Europe/Paris:20260213T193000
DTSTAMP:20260420T143536
CREATED:20251207T132055Z
LAST-MODIFIED:20251228T111145Z
UID:459-1771005600-1771011000@asso.fantastinet.com
SUMMARY:Les Mycéliades - Rencontre avec Catherine Dufour
DESCRIPTION:Pour cette nouvelle édition des Mycéliades\, Catherine Dufour sera parmi nous et répondra à nos questions… \n  \nVenez nombreuses et nombreux !
URL:https://asso.fantastinet.com/evenement/les-myceliades-rencontre-avec-catherine-dufour/
LOCATION:Médiathèque Louis Aragon\, 54 Rue du Port\, Le Mans\, 72100\, France
CATEGORIES:Rencontres
ATTACH;FMTTYPE=image/jpeg:https://asso.fantastinet.com/wp-content/uploads/2025/12/myceliades.jpg
END:VEVENT
BEGIN:VEVENT
DTSTART;TZID=Europe/Paris:20260214T140000
DTEND;TZID=Europe/Paris:20260214T153000
DTSTAMP:20260420T143536
CREATED:20250719T094659Z
LAST-MODIFIED:20250719T094659Z
UID:327-1771077600-1771083000@asso.fantastinet.com
SUMMARY:Club de lecture d’ici et d’ailleurs
DESCRIPTION:Nous reprenons les Clubs de lecture d’ici et d’ailleurs\, toujours en partenariat avec la Bibliothèque Universitaire du Mans. \n  \nDurant un peu plus d’une heure\, venez partager avec d’autres lecteurs et lectrices les titres qui vous ont enchantés\, ceux qui vous ont déplu ou tout simplement\, venez écouter les avis des autres clubistes ! \n  \nDans une ambiance conviviale\, les littératures de l’imaginaire n’auront plus de secrets pour vous que vous soyez déjà amateurs… ou non ! \n  \nEntrée gratuite et sasninscription !
URL:https://asso.fantastinet.com/evenement/club-de-lecture-dici-et-dailleurs-5/
LOCATION:BU université du maine\, Boulevard Paul d'Estournelles de Constant\, Le Mans\, 72000\, France
CATEGORIES:Rencontres
ATTACH;FMTTYPE=image/jpeg:https://asso.fantastinet.com/wp-content/uploads/2025/07/club_faceboo-scaled.jpg
END:VEVENT
END:VCALENDAR