BEGIN:VCALENDAR
VERSION:2.0
PRODID:-//Fantastinet - L&#039;Association - ECPv6.15.20//NONSGML v1.0//EN
CALSCALE:GREGORIAN
METHOD:PUBLISH
X-WR-CALNAME:Fantastinet - L&#039;Association
X-ORIGINAL-URL:https://asso.fantastinet.com
X-WR-CALDESC:Évènements pour Fantastinet - L&#039;Association
REFRESH-INTERVAL;VALUE=DURATION:PT1H
X-Robots-Tag:noindex
X-PUBLISHED-TTL:PT1H
BEGIN:VTIMEZONE
TZID:Europe/Paris
BEGIN:DAYLIGHT
TZOFFSETFROM:+0100
TZOFFSETTO:+0200
TZNAME:CEST
DTSTART:20240331T010000
END:DAYLIGHT
BEGIN:STANDARD
TZOFFSETFROM:+0200
TZOFFSETTO:+0100
TZNAME:CET
DTSTART:20241027T010000
END:STANDARD
BEGIN:DAYLIGHT
TZOFFSETFROM:+0100
TZOFFSETTO:+0200
TZNAME:CEST
DTSTART:20250330T010000
END:DAYLIGHT
BEGIN:STANDARD
TZOFFSETFROM:+0200
TZOFFSETTO:+0100
TZNAME:CET
DTSTART:20251026T010000
END:STANDARD
BEGIN:DAYLIGHT
TZOFFSETFROM:+0100
TZOFFSETTO:+0200
TZNAME:CEST
DTSTART:20260329T010000
END:DAYLIGHT
BEGIN:STANDARD
TZOFFSETFROM:+0200
TZOFFSETTO:+0100
TZNAME:CET
DTSTART:20261025T010000
END:STANDARD
END:VTIMEZONE
BEGIN:VEVENT
DTSTART;TZID=Europe/Paris:20250301T140000
DTEND;TZID=Europe/Paris:20250301T153000
DTSTAMP:20260424T193532
CREATED:20250215T111807Z
LAST-MODIFIED:20250215T111807Z
UID:265-1740837600-1740843000@asso.fantastinet.com
SUMMARY:Club de lecture - D'ici et D'ailleurs
DESCRIPTION:Vous voulez parler de vos lectures Imaginaires ? \nVous voulez découvrir de nouveaux auteurs / autrices et de nouveaux romans ? \nVenez nous rejoindre le 1er mars à la Bibliothèque Universitaire du Maine. \n  \nL’entrée est ouverte à toutes et tous\, que vous soyez à l’Université ou pas.
URL:https://asso.fantastinet.com/evenement/club-de-lecture-dici-et-dailleurs/
LOCATION:BU université du maine\, Boulevard Paul d'Estournelles de Constant\, Le Mans\, 72000\, France
CATEGORIES:Rencontres
ATTACH;FMTTYPE=image/jpeg:https://asso.fantastinet.com/wp-content/uploads/2025/02/affiche.jpg
END:VEVENT
END:VCALENDAR