BEGIN:VCALENDAR
VERSION:2.0
PRODID:-//Fantastinet - L&#039;Association - ECPv6.15.20//NONSGML v1.0//EN
CALSCALE:GREGORIAN
METHOD:PUBLISH
X-ORIGINAL-URL:https://asso.fantastinet.com
X-WR-CALDESC:Évènements pour Fantastinet - L&#039;Association
REFRESH-INTERVAL;VALUE=DURATION:PT1H
X-Robots-Tag:noindex
X-PUBLISHED-TTL:PT1H
BEGIN:VTIMEZONE
TZID:Europe/Paris
BEGIN:DAYLIGHT
TZOFFSETFROM:+0100
TZOFFSETTO:+0200
TZNAME:CEST
DTSTART:20250330T010000
END:DAYLIGHT
BEGIN:STANDARD
TZOFFSETFROM:+0200
TZOFFSETTO:+0100
TZNAME:CET
DTSTART:20251026T010000
END:STANDARD
BEGIN:DAYLIGHT
TZOFFSETFROM:+0100
TZOFFSETTO:+0200
TZNAME:CEST
DTSTART:20260329T010000
END:DAYLIGHT
BEGIN:STANDARD
TZOFFSETFROM:+0200
TZOFFSETTO:+0100
TZNAME:CET
DTSTART:20261025T010000
END:STANDARD
BEGIN:DAYLIGHT
TZOFFSETFROM:+0100
TZOFFSETTO:+0200
TZNAME:CEST
DTSTART:20270328T010000
END:DAYLIGHT
BEGIN:STANDARD
TZOFFSETFROM:+0200
TZOFFSETTO:+0100
TZNAME:CET
DTSTART:20271031T010000
END:STANDARD
END:VTIMEZONE
BEGIN:VEVENT
DTSTART;TZID=Europe/Paris:20260212T180000
DTEND;TZID=Europe/Paris:20260212T190000
DTSTAMP:20260420T192742
CREATED:20251207T132351Z
LAST-MODIFIED:20251207T132351Z
UID:461-1770919200-1770922800@asso.fantastinet.com
SUMMARY:Les Mycéliades - Table Ronde "Nos Futurs en Chantier"
DESCRIPTION:Dans le cadre du festival des Mycéliades\, la Bibliothèque Universitaire du Mans\, Fantastinet et la Fondation de l’Université vous propose une table ronde « Nos Futurs en chantier : de la lucidité de l’effondrement à l’imaginaire de la reconstruction » en compagnie de Ketty Steward et Jean-Philippe Melchior. \n  \nEntrée Libre
URL:https://asso.fantastinet.com/evenement/les-myceliades-table-ronde-nos-futurs-en-chantier/
LOCATION:BU université du maine\, Boulevard Paul d'Estournelles de Constant\, Le Mans\, 72000\, France
CATEGORIES:Conférence
ATTACH;FMTTYPE=image/jpeg:https://asso.fantastinet.com/wp-content/uploads/2025/12/myceliades.jpg
END:VEVENT
END:VCALENDAR